BEGIN:VCALENDAR
VERSION:2.0
PRODID:-//VACFSS - ECPv6.15.20//NONSGML v1.0//EN
CALSCALE:GREGORIAN
METHOD:PUBLISH
X-WR-CALNAME:VACFSS
X-ORIGINAL-URL:https://www.vacfss.com
X-WR-CALDESC:Events for VACFSS
REFRESH-INTERVAL;VALUE=DURATION:PT1H
X-Robots-Tag:noindex
X-PUBLISHED-TTL:PT1H
BEGIN:VTIMEZONE
TZID:America/Vancouver
BEGIN:DAYLIGHT
TZOFFSETFROM:-0800
TZOFFSETTO:-0700
TZNAME:PDT
DTSTART:20210314T100000
END:DAYLIGHT
BEGIN:STANDARD
TZOFFSETFROM:-0700
TZOFFSETTO:-0800
TZNAME:PST
DTSTART:20211107T090000
END:STANDARD
BEGIN:DAYLIGHT
TZOFFSETFROM:-0800
TZOFFSETTO:-0700
TZNAME:PDT
DTSTART:20220313T100000
END:DAYLIGHT
BEGIN:STANDARD
TZOFFSETFROM:-0700
TZOFFSETTO:-0800
TZNAME:PST
DTSTART:20221106T090000
END:STANDARD
BEGIN:DAYLIGHT
TZOFFSETFROM:-0800
TZOFFSETTO:-0700
TZNAME:PDT
DTSTART:20230312T100000
END:DAYLIGHT
BEGIN:STANDARD
TZOFFSETFROM:-0700
TZOFFSETTO:-0800
TZNAME:PST
DTSTART:20231105T090000
END:STANDARD
END:VTIMEZONE
BEGIN:VEVENT
DTSTART;TZID=America/Vancouver:20220404T110000
DTEND;TZID=America/Vancouver:20220404T130000
DTSTAMP:20260422T050824
CREATED:20220321T195756Z
LAST-MODIFIED:20220321T195756Z
UID:2096-1649070000-1649077200@www.vacfss.com
SUMMARY:Pedestrian Safety
DESCRIPTION:If you’d like to join Indigenous Early Years on April 4 please register with Tracy Mclean: tracy.iey@vahs.life or you can call at 604-363-9627 They will need to know numbers so that they can place an order for lunch! Excited to see families in the building again!
URL:https://www.vacfss.com/events-calendar/pedestrian-safety/
LOCATION:British Columbia
ATTACH;FMTTYPE=image/png:https://www.vacfss.com/wp-content/uploads/2022/03/Pedestrian-Safety.png
END:VEVENT
BEGIN:VEVENT
DTSTART;TZID=America/Vancouver:20220405T160000
DTEND;TZID=America/Vancouver:20220405T173000
DTSTAMP:20260422T050824
CREATED:20220401T174510Z
LAST-MODIFIED:20220401T175942Z
UID:2104-1649174400-1649179800@www.vacfss.com
SUMMARY:Indigenous Storytelling/Theatre Workshop
DESCRIPTION:Connections Community Services Society are hosting Indigenous Storytelling/Theatre workshops starting April 5\, 2022. Ages 14 & Up. All classes held at Connections Community Service Society offices.\n\n\n \n\n\nContact Jack at:\n\n\njack.horne@ccssociety.ca or 604-218-5592\n\n\n 
URL:https://www.vacfss.com/events-calendar/indigenous-storytelling-theatre-workshop/
LOCATION:British Columbia
ATTACH;FMTTYPE=image/png:https://www.vacfss.com/wp-content/uploads/2022/04/24300927-EXTWiNf9.png
END:VEVENT
BEGIN:VEVENT
DTSTART;TZID=America/Vancouver:20220406T131500
DTEND;TZID=America/Vancouver:20220406T141500
DTSTAMP:20260422T050824
CREATED:20220401T174056Z
LAST-MODIFIED:20220401T174056Z
UID:2102-1649250900-1649254500@www.vacfss.com
SUMMARY:Traditional Inuit Throat Singing
DESCRIPTION:Listen in as Charlotte and Abigail share traditional Inuit throat singing songs\, stories\, and history organized by Aboriginal Head Start Association of British Columbia. \nWednesday\, April 06 1:15 – 2:15 PM (PT) \nZoom Link: www.ahsabc.com/apr06 \nThroat singing is a game typically played by Inuit women\, which often ends in laughter. The duo will sing traditional songs — and maybe a few new ones — and share some of the history and mechanics of throat singing. They will also answer questions and might even invite some brave volunteers to give throat singing a try!
URL:https://www.vacfss.com/events-calendar/traditional-inuit-throat-singing/
LOCATION:British Columbia
ATTACH;FMTTYPE=image/png:https://www.vacfss.com/wp-content/uploads/2022/04/24300927-baUgtVTP.png
END:VEVENT
BEGIN:VEVENT
DTSTART;TZID=America/Vancouver:20220407T103000
DTEND;TZID=America/Vancouver:20220407T120000
DTSTAMP:20260422T050824
CREATED:20220401T180307Z
LAST-MODIFIED:20220401T180307Z
UID:2106-1649327400-1649332800@www.vacfss.com
SUMMARY:Circle of Security Parenting Program
DESCRIPTION:Spirit of the Children Society is offering a Circle of Security FREE 8-week Parenting Program!\n\n\n \n\n\nthe program will begin on April 7th to May 26th.\n\n\n \n\n\nKindly register by calling Robie Brown at 604-524-9113\n\n\n \n\n\n#parentingprogram #parentsupport #parentingchildren #vancouverbc
URL:https://www.vacfss.com/events-calendar/circle-of-security-parenting-program/
LOCATION:British Columbia
ATTACH;FMTTYPE=image/png:https://www.vacfss.com/wp-content/uploads/2022/04/24300927-3KCOFMIX.png
END:VEVENT
BEGIN:VEVENT
DTSTART;VALUE=DATE:20220413
DTEND;VALUE=DATE:20220414
DTSTAMP:20260422T050824
CREATED:20220408T202137Z
LAST-MODIFIED:20220408T202137Z
UID:2120-1649808000-1649894399@www.vacfss.com
SUMMARY:Stick Games
DESCRIPTION:Kílala Lelum Health Centre is hosting a couple events this month!\n\n\n \n\n\nIf you want to sign up for a workshop or ask any questions\, feel free to email their culture wellness team: \n\nJessic.foy@uihhc.ca\, Taylor.koble@uihhc.ca\, tristan.henry@uihhc.ca
URL:https://www.vacfss.com/events-calendar/stick-games/
LOCATION:British Columbia
ATTACH;FMTTYPE=image/jpeg:https://www.vacfss.com/wp-content/uploads/2022/04/277801478_7242628952477743_2324376875624179082_n.jpg
END:VEVENT
BEGIN:VEVENT
DTSTART;VALUE=DATE:20220414
DTEND;VALUE=DATE:20220415
DTSTAMP:20260422T050824
CREATED:20220408T202242Z
LAST-MODIFIED:20220408T202242Z
UID:2122-1649894400-1649980799@www.vacfss.com
SUMMARY:Zine Making with Ryme
DESCRIPTION:Kílala Lelum Health Centre is hosting a couple events this month!\n\n\n \n\n\nIf you want to sign up for a workshop or ask any questions\, feel free to email their culture wellness team: \n\nJessic.foy@uihhc.ca\, Taylor.koble@uihhc.ca\, tristan.henry@uihhc.ca
URL:https://www.vacfss.com/events-calendar/zine-making-with-ryme/
LOCATION:British Columbia
ATTACH;FMTTYPE=image/jpeg:https://www.vacfss.com/wp-content/uploads/2022/04/277801478_7242628952477743_2324376875624179082_n.jpg
END:VEVENT
BEGIN:VEVENT
DTSTART;TZID=America/Vancouver:20220415T120000
DTEND;TZID=America/Vancouver:20220415T130000
DTSTAMP:20260422T050824
CREATED:20220408T203421Z
LAST-MODIFIED:20220408T203421Z
UID:2129-1650024000-1650027600@www.vacfss.com
SUMMARY:Health Benefits 101 Virtual Session
DESCRIPTION:Urban First Nations are invited to meet the First Nations Health Authority Community Relations Representative Joyce Kenoras and learn about all six areas of First Nations Health Benefits.\n\n\n \n\n\nHappening on April 15th\, 12:00pm-1:00pm.\n\n\nKindly refer to the image for more information.
URL:https://www.vacfss.com/events-calendar/health-benefits-101-virtual-session/
LOCATION:British Columbia
ATTACH;FMTTYPE=image/png:https://www.vacfss.com/wp-content/uploads/2022/04/Health-Benefits-101-Virtual-Session.png
END:VEVENT
BEGIN:VEVENT
DTSTART;VALUE=DATE:20220416
DTEND;VALUE=DATE:20220417
DTSTAMP:20260422T050824
CREATED:20220408T224454Z
LAST-MODIFIED:20220408T224454Z
UID:2132-1650067200-1650153599@www.vacfss.com
SUMMARY:Family Recovery Social
DESCRIPTION:In partnership with Family Recovery Society\, the team at Together We Can hosted the first of a monthly series of events for families in recovery\, the Family Recovery Social. \nThey are excited for their next event on Saturday April 16th! Join them at Sapperton Pensioners Hall for some fun easter related activities for the kids\, and some interactive sessions for all you amazing parents! For more information on the upcoming series\, click here: http://ow.ly/2PgP50IFuNc
URL:https://www.vacfss.com/events-calendar/family-recovery-social/
LOCATION:British Columbia
ATTACH;FMTTYPE=image/png:https://www.vacfss.com/wp-content/uploads/2022/04/277223890_116104604358745_6821611206136765300_n.png
END:VEVENT
BEGIN:VEVENT
DTSTART;TZID=America/Vancouver:20220419T090000
DTEND;TZID=America/Vancouver:20220419T150000
DTSTAMP:20260422T050824
CREATED:20220414T220046Z
LAST-MODIFIED:20220414T220139Z
UID:2147-1650358800-1650380400@www.vacfss.com
SUMMARY:Microsoft Excel Level 2 Workshop
DESCRIPTION:Naut’sa mawt Tribal Council is excited to offer Microsoft Excel Level 2 online training for our Member Nations’ staff! This is the follow-up workshop for those who have completed the Level 1 workshop from February earlier this year. Facilitated by Vancouver Island Works Project *For Member Nations’ staff who wish to take this workshop but have not completed Level 1\, please email silvera@nautsamawt.com to get access to the materials. \n  \nTo register click here: http://ow.ly/1Ws350IKjSN
URL:https://www.vacfss.com/events-calendar/microsoft-excel-level-2-workshop/
LOCATION:British Columbia
ATTACH;FMTTYPE=image/jpeg:https://www.vacfss.com/wp-content/uploads/2022/04/278559664_2840490686250316_7361531819507875733_n.jpg
END:VEVENT
BEGIN:VEVENT
DTSTART;TZID=America/Vancouver:20220420T093000
DTEND;TZID=America/Vancouver:20220420T110000
DTSTAMP:20260422T050824
CREATED:20220414T220542Z
LAST-MODIFIED:20220414T220624Z
UID:2149-1650447000-1650452400@www.vacfss.com
SUMMARY:Family Play Time
DESCRIPTION:Join South Vancouver Family Drop-in Program for their Family Play Time sessions every Wednesday!\n\n\n \n\n\nThis is a FREE drop-in program for children aged 0-6 and their families to build connections while enjoying songs\, play\, art\, stories\, and learning exploration!\n\n\n \n\n\nSee poster for more information on time and location.
URL:https://www.vacfss.com/events-calendar/family-play-time/
LOCATION:British Columbia
ATTACH;FMTTYPE=image/jpeg:https://www.vacfss.com/wp-content/uploads/2022/04/278570850_513590390296490_4199688159356449782_n.jpg
END:VEVENT
BEGIN:VEVENT
DTSTART;VALUE=DATE:20220421
DTEND;VALUE=DATE:20220422
DTSTAMP:20260422T050824
CREATED:20220408T202327Z
LAST-MODIFIED:20220408T202327Z
UID:2124-1650499200-1650585599@www.vacfss.com
SUMMARY:Ribbon Skirt Making With Amanda
DESCRIPTION:Kílala Lelum Health Centre is hosting a couple events this month!\n\n\n \n\n\nIf you want to sign up for a workshop or ask any questions\, feel free to email their culture wellness team: \n\nJessic.foy@uihhc.ca\, Taylor.koble@uihhc.ca\, tristan.henry@uihhc.ca
URL:https://www.vacfss.com/events-calendar/ribbon-skirt-making-with-amanda/
LOCATION:British Columbia
ATTACH;FMTTYPE=image/jpeg:https://www.vacfss.com/wp-content/uploads/2022/04/277801478_7242628952477743_2324376875624179082_n.jpg
END:VEVENT
BEGIN:VEVENT
DTSTART;TZID=America/Vancouver:20220422T100000
DTEND;TZID=America/Vancouver:20220422T120000
DTSTAMP:20260422T050824
CREATED:20220414T221231Z
LAST-MODIFIED:20220414T221341Z
UID:2152-1650621600-1650628800@www.vacfss.com
SUMMARY:Earth Day Celebration
DESCRIPTION:Families with children 0-6 are invited to join the Story Blanket program and Family Navigator program for Earth Day activities. Including planting\, crafts\, learning about the environment\, and teachings from Elder Colleen Pierre! To register contact Kathleen at storyblanket@frisociety.ca or Natalie at familynav@familyed.ca Organized by: Fraser River Indigenous Society
URL:https://www.vacfss.com/events-calendar/earth-day-celebration/
LOCATION:British Columbia
ATTACH;FMTTYPE=image/jpeg:https://www.vacfss.com/wp-content/uploads/2022/04/278434836_3246921692219442_8241594134510382507_n.jpg
END:VEVENT
BEGIN:VEVENT
DTSTART;TZID=America/Vancouver:20220423T090000
DTEND;TZID=America/Vancouver:20220423T160000
DTSTAMP:20260422T050824
CREATED:20220414T221051Z
LAST-MODIFIED:20220414T221051Z
UID:2151-1650704400-1650729600@www.vacfss.com
SUMMARY:Walking as One
DESCRIPTION:Join Together We Can – Addiction Recovery & Education Society‘s speakers from Winnepeg as they share stories and how to support Indigenous persons as they move to urban environments and build a life in recovery. This FREE one-day event includes lunch and has limited spaces available. When: Saturday\, April 23rd from 9:00am – 4:00pm Register here: https://fb.me/e/1fW0mk8ou
URL:https://www.vacfss.com/events-calendar/walking-as-one/
LOCATION:British Columbia
END:VEVENT
BEGIN:VEVENT
DTSTART;TZID=America/Vancouver:20220426T130000
DTEND;TZID=America/Vancouver:20220428T140000
DTSTAMP:20260422T050824
CREATED:20220114T184941Z
LAST-MODIFIED:20220114T184941Z
UID:1911-1650978000-1651154400@www.vacfss.com
SUMMARY:Going M.I.L.E.S Youth Conference
DESCRIPTION:The Spirit of the Children society is hosting a youth conference featuring amazing facilitators\, entertainers\, and an Indigenous Youth Fashion Show! The event will be running for 3 days that is catered for Indigenous youth ages 12-18 years old. \n  \nRegister by April 8th by contacting Mikhaila Tobin at m.tobin@sotcs.ca
URL:https://www.vacfss.com/events-calendar/going-m-i-l-e-s-youth-conference/
LOCATION:The Giggle Dam Dinner Theatre\, 2616 Shaughnessy Street\, Port Coquitlam\, Canada
ATTACH;FMTTYPE=image/png:https://www.vacfss.com/wp-content/uploads/2022/01/SOTCS-Youth-Conference-Poster.png
END:VEVENT
BEGIN:VEVENT
DTSTART;VALUE=DATE:20220428
DTEND;VALUE=DATE:20220429
DTSTAMP:20260422T050824
CREATED:20220408T202406Z
LAST-MODIFIED:20220408T202406Z
UID:2125-1651104000-1651190399@www.vacfss.com
SUMMARY:Vision Board Making With Ryme
DESCRIPTION:Kílala Lelum Health Centre is hosting a couple events this month!\n\n\n \n\n\nIf you want to sign up for a workshop or ask any questions\, feel free to email their culture wellness team: \n\nJessic.foy@uihhc.ca\, Taylor.koble@uihhc.ca\, tristan.henry@uihhc.ca
URL:https://www.vacfss.com/events-calendar/vision-board-making-with-ryme/
LOCATION:British Columbia
ATTACH;FMTTYPE=image/jpeg:https://www.vacfss.com/wp-content/uploads/2022/04/277801478_7242628952477743_2324376875624179082_n.jpg
END:VEVENT
BEGIN:VEVENT
DTSTART;TZID=America/Vancouver:20220430T110000
DTEND;TZID=America/Vancouver:20220430T130000
DTSTAMP:20260422T050824
CREATED:20220414T221918Z
LAST-MODIFIED:20220414T232436Z
UID:2155-1651316400-1651323600@www.vacfss.com
SUMMARY:Providence in the Park
DESCRIPTION:Everyone is welcome to join the 2022 Providence in the Park Event\, on Saturday April 30 11:00am-1:00pm at Oppenheimer Park. Health and wellness resources as well as the Bike Repair Clinic will be onsite. \n\nIndigenous Wellness and Reconciliation – Community Building\nCarnegie Centre – Beverage cart\, regular programming in the Park\, barber services\nSt John Ambulance – First Aid\nSt Paul’s Hospital Pandemic Response Team – COVID 19 vaccine\nSt Paul’s Hospital Overdose Prevention Site – Naloxone kits and education\nVancouver Health Overdose Outreach Team – Education\nClearly® – Eye exams and eye wear\nQuick Cobbler – Refurbished walking shoes\nPHC Volunteers – haircuts Gift bags for community consisting of a personal care kit (Shoppers Drug Mart) and other new items donated at PHC sites; t-shirts (C&O); and granola bars (Nature’s Path)\nASL Interpretation Available
URL:https://www.vacfss.com/events-calendar/providence-in-the-park/
LOCATION:British Columbia
ATTACH;FMTTYPE=image/png:https://www.vacfss.com/wp-content/uploads/2022/04/278361590_10158300716706470_1033299150953641885_n.png
END:VEVENT
END:VCALENDAR