BEGIN:VCALENDAR
VERSION:2.0
PRODID:-//VACFSS - ECPv6.15.20//NONSGML v1.0//EN
CALSCALE:GREGORIAN
METHOD:PUBLISH
X-WR-CALNAME:VACFSS
X-ORIGINAL-URL:https://www.vacfss.com
X-WR-CALDESC:Events for VACFSS
REFRESH-INTERVAL;VALUE=DURATION:PT1H
X-Robots-Tag:noindex
X-PUBLISHED-TTL:PT1H
BEGIN:VTIMEZONE
TZID:America/Vancouver
BEGIN:DAYLIGHT
TZOFFSETFROM:-0800
TZOFFSETTO:-0700
TZNAME:PDT
DTSTART:20210314T100000
END:DAYLIGHT
BEGIN:STANDARD
TZOFFSETFROM:-0700
TZOFFSETTO:-0800
TZNAME:PST
DTSTART:20211107T090000
END:STANDARD
BEGIN:DAYLIGHT
TZOFFSETFROM:-0800
TZOFFSETTO:-0700
TZNAME:PDT
DTSTART:20220313T100000
END:DAYLIGHT
BEGIN:STANDARD
TZOFFSETFROM:-0700
TZOFFSETTO:-0800
TZNAME:PST
DTSTART:20221106T090000
END:STANDARD
BEGIN:DAYLIGHT
TZOFFSETFROM:-0800
TZOFFSETTO:-0700
TZNAME:PDT
DTSTART:20230312T100000
END:DAYLIGHT
BEGIN:STANDARD
TZOFFSETFROM:-0700
TZOFFSETTO:-0800
TZNAME:PST
DTSTART:20231105T090000
END:STANDARD
END:VTIMEZONE
BEGIN:VEVENT
DTSTART;TZID=America/Vancouver:20220525T190000
DTEND;TZID=America/Vancouver:20220525T203000
DTSTAMP:20260424T071220
CREATED:20220519T222118Z
LAST-MODIFIED:20220519T222118Z
UID:2213-1653505200-1653510600@www.vacfss.com
SUMMARY:Gathering for Connecting & Learning for Suicide Loss Survivors
DESCRIPTION:Gathering for Connecting & Learning for Suicide Loss Survivors\nWhen: May 25th\, 2022 @ 7:00pm to 8:30pm Pacific Time \nLosing a significant other to suicide is most often challenging and isolating. Creating new connections and finding oneself within a community of others who may understand your grieving process can be essential. In this online gathering may you find a safe space to share. \nThis Gathering for Connecting & Learning for Suicide Loss Survivors online session will promote the connections to a supportive community of survivors. \nThis 90 min (free) online get together will include: \n\nOpening\nEducational Piece: Suicide awareness for everyone\nFacilitated Grief Circles\nClosing\n\nWho is it for? \nThis is open to all survivors of suicide loss (18 & older). \nCan’t attend live? \nWe understand that life is busy and sometimes unpredictable\, still due to the nature of this event\, it will not be recorded. \nFacilitators \nThis session is facilitated by Jessica Wolf Ortiz\, RCC and Lu Ripley. Jessica is the current Bereavement Coordinator at the Crisis Centre of B.C.\, registered Clinical Counsellor and author of Overcoming Suicide Grief. The stories of those who stay. Lu Ripley is the Director of Community Learning and Engagement program at the Crisis Centre of B.C. who brings a life promotion and whole community perspective to suicide prevention. \nThe Crisis Centre of BC is a non-profit charitable organization in Vancouver\, B.C.\, Canada. To make a donation for this free session\, visit crisiscentre.bc.ca/donate. \nTo register for this online event\, please follow this link:\nhttps://www.eventbrite.ca/e/gathering-for-connecting-and-learning-for-suicide-loss-survivors-tickets-329251749847 \nQuestions? \nPlease email: cle-zoom@crisiscentre.bc.ca or bereavement@crisiscentre.bc.ca
URL:https://www.vacfss.com/events-calendar/gathering-for-connecting-learning-for-suicide-loss-survivors/
LOCATION:British Columbia
ATTACH;FMTTYPE=image/png:https://www.vacfss.com/wp-content/uploads/2022/05/cvb.png
END:VEVENT
END:VCALENDAR