BEGIN:VCALENDAR
VERSION:2.0
PRODID:-//VACFSS - ECPv6.15.20//NONSGML v1.0//EN
CALSCALE:GREGORIAN
METHOD:PUBLISH
X-WR-CALNAME:VACFSS
X-ORIGINAL-URL:https://www.vacfss.com
X-WR-CALDESC:Events for VACFSS
REFRESH-INTERVAL;VALUE=DURATION:PT1H
X-Robots-Tag:noindex
X-PUBLISHED-TTL:PT1H
BEGIN:VTIMEZONE
TZID:America/Vancouver
BEGIN:DAYLIGHT
TZOFFSETFROM:-0800
TZOFFSETTO:-0700
TZNAME:PDT
DTSTART:20210314T100000
END:DAYLIGHT
BEGIN:STANDARD
TZOFFSETFROM:-0700
TZOFFSETTO:-0800
TZNAME:PST
DTSTART:20211107T090000
END:STANDARD
BEGIN:DAYLIGHT
TZOFFSETFROM:-0800
TZOFFSETTO:-0700
TZNAME:PDT
DTSTART:20220313T100000
END:DAYLIGHT
BEGIN:STANDARD
TZOFFSETFROM:-0700
TZOFFSETTO:-0800
TZNAME:PST
DTSTART:20221106T090000
END:STANDARD
BEGIN:DAYLIGHT
TZOFFSETFROM:-0800
TZOFFSETTO:-0700
TZNAME:PDT
DTSTART:20230312T100000
END:DAYLIGHT
BEGIN:STANDARD
TZOFFSETFROM:-0700
TZOFFSETTO:-0800
TZNAME:PST
DTSTART:20231105T090000
END:STANDARD
END:VTIMEZONE
BEGIN:VEVENT
DTSTART;TZID=America/Vancouver:20220518T150000
DTEND;TZID=America/Vancouver:20220518T170000
DTSTAMP:20260424T071059
CREATED:20220506T175733Z
LAST-MODIFIED:20220506T175733Z
UID:2201-1652886000-1652893200@www.vacfss.com
SUMMARY:Cultural Cooking With and Elder
DESCRIPTION:Langley Youth Hub is very excited to share they will be running a cultural cooking program with an Indigenous Elder\, Indigenous Child and Youth Mental Health and the Langley Youth Hub. Learn life skills on budgeting\, cooking\, grocery shopping and so much more! \nThe program begins May 11th and will run for 6 sessions on Wednesdays from 3pm-5pm (see attached poster for details). \nPlease call the Langley Youth Resource Centre to reserve a spot 604-546-1130.
URL:https://www.vacfss.com/events-calendar/cultural-cooking-with-and-elder-2/
LOCATION:British Columbia
END:VEVENT
END:VCALENDAR