BEGIN:VCALENDAR
VERSION:2.0
PRODID:-//VACFSS - ECPv6.15.20//NONSGML v1.0//EN
CALSCALE:GREGORIAN
METHOD:PUBLISH
X-ORIGINAL-URL:https://www.vacfss.com
X-WR-CALDESC:Events for VACFSS
REFRESH-INTERVAL;VALUE=DURATION:PT1H
X-Robots-Tag:noindex
X-PUBLISHED-TTL:PT1H
BEGIN:VTIMEZONE
TZID:America/Vancouver
BEGIN:DAYLIGHT
TZOFFSETFROM:-0800
TZOFFSETTO:-0700
TZNAME:PDT
DTSTART:20210314T100000
END:DAYLIGHT
BEGIN:STANDARD
TZOFFSETFROM:-0700
TZOFFSETTO:-0800
TZNAME:PST
DTSTART:20211107T090000
END:STANDARD
BEGIN:DAYLIGHT
TZOFFSETFROM:-0800
TZOFFSETTO:-0700
TZNAME:PDT
DTSTART:20220313T100000
END:DAYLIGHT
BEGIN:STANDARD
TZOFFSETFROM:-0700
TZOFFSETTO:-0800
TZNAME:PST
DTSTART:20221106T090000
END:STANDARD
BEGIN:DAYLIGHT
TZOFFSETFROM:-0800
TZOFFSETTO:-0700
TZNAME:PDT
DTSTART:20230312T100000
END:DAYLIGHT
BEGIN:STANDARD
TZOFFSETFROM:-0700
TZOFFSETTO:-0800
TZNAME:PST
DTSTART:20231105T090000
END:STANDARD
END:VTIMEZONE
BEGIN:VEVENT
DTSTART;TZID=America/Vancouver:20220513T140000
DTEND;TZID=America/Vancouver:20220513T160000
DTSTAMP:20260424T084010
CREATED:20220506T175152Z
LAST-MODIFIED:20220506T175152Z
UID:2199-1652450400-1652457600@www.vacfss.com
SUMMARY:ISC Cultural Connections: Beading - Crafting Circle
DESCRIPTION:Cultural Connections is an opportunity for Indigenous SFU students and ISC staff to connect and engage with cultural\, artistic\, and wellness activities. From casual gatherings where students can share their own artistic projects to facilitated workshops\, the ISC provides materials and supplies to promote cultural and artistic practice and bring balance to the busy student life. \nCultural Connections has a bunch of great workshops coming your way this term and SFU Indigenous Student Centre would love to host you! Please complete the following registration form to let them know if you are interested and intend to make some of the workshops. \nRegistration form: http://ow.ly/oUhF50J1zsi
URL:https://www.vacfss.com/events-calendar/isc-cultural-connections-beading-crafting-circle/
LOCATION:British Columbia
ATTACH;FMTTYPE=image/png:https://www.vacfss.com/wp-content/uploads/2022/05/279915199_5376807162329240_4222566612966971043_n.png
END:VEVENT
END:VCALENDAR