BEGIN:VCALENDAR
VERSION:2.0
PRODID:-//VACFSS - ECPv6.15.20//NONSGML v1.0//EN
CALSCALE:GREGORIAN
METHOD:PUBLISH
X-WR-CALNAME:VACFSS
X-ORIGINAL-URL:https://www.vacfss.com
X-WR-CALDESC:Events for VACFSS
REFRESH-INTERVAL;VALUE=DURATION:PT1H
X-Robots-Tag:noindex
X-PUBLISHED-TTL:PT1H
BEGIN:VTIMEZONE
TZID:America/Vancouver
BEGIN:DAYLIGHT
TZOFFSETFROM:-0800
TZOFFSETTO:-0700
TZNAME:PDT
DTSTART:20210314T100000
END:DAYLIGHT
BEGIN:STANDARD
TZOFFSETFROM:-0700
TZOFFSETTO:-0800
TZNAME:PST
DTSTART:20211107T090000
END:STANDARD
BEGIN:DAYLIGHT
TZOFFSETFROM:-0800
TZOFFSETTO:-0700
TZNAME:PDT
DTSTART:20220313T100000
END:DAYLIGHT
BEGIN:STANDARD
TZOFFSETFROM:-0700
TZOFFSETTO:-0800
TZNAME:PST
DTSTART:20221106T090000
END:STANDARD
BEGIN:DAYLIGHT
TZOFFSETFROM:-0800
TZOFFSETTO:-0700
TZNAME:PDT
DTSTART:20230312T100000
END:DAYLIGHT
BEGIN:STANDARD
TZOFFSETFROM:-0700
TZOFFSETTO:-0800
TZNAME:PST
DTSTART:20231105T090000
END:STANDARD
END:VTIMEZONE
BEGIN:VEVENT
DTSTART;VALUE=DATE:20220507
DTEND;VALUE=DATE:20220508
DTSTAMP:20260424T013007
CREATED:20220429T185538Z
LAST-MODIFIED:20220429T185538Z
UID:2176-1651881600-1651967999@www.vacfss.com
SUMMARY:Comic Book Day
DESCRIPTION:Come to this FREE Comic Book Day on Saturday\, May 7th! In Partnership with Heroes For Sale\, Fraser Valley Regional Library is happy to participate in this annual outreach initiative of the North American Comic Book Industry\, so that they can bring new comics to customers across the Fraser Valley and for FREE! \n  \nVisit your local library for more information!
URL:https://www.vacfss.com/events-calendar/comic-book-day/
LOCATION:British Columbia
ATTACH;FMTTYPE=image/png:https://www.vacfss.com/wp-content/uploads/2022/04/279293423_2846155812356680_4120305969112085006_n.png
END:VEVENT
END:VCALENDAR