BEGIN:VCALENDAR
VERSION:2.0
PRODID:-//VACFSS - ECPv6.15.20//NONSGML v1.0//EN
CALSCALE:GREGORIAN
METHOD:PUBLISH
X-WR-CALNAME:VACFSS
X-ORIGINAL-URL:https://www.vacfss.com
X-WR-CALDESC:Events for VACFSS
REFRESH-INTERVAL;VALUE=DURATION:PT1H
X-Robots-Tag:noindex
X-PUBLISHED-TTL:PT1H
BEGIN:VTIMEZONE
TZID:America/Vancouver
BEGIN:DAYLIGHT
TZOFFSETFROM:-0800
TZOFFSETTO:-0700
TZNAME:PDT
DTSTART:20210314T100000
END:DAYLIGHT
BEGIN:STANDARD
TZOFFSETFROM:-0700
TZOFFSETTO:-0800
TZNAME:PST
DTSTART:20211107T090000
END:STANDARD
BEGIN:DAYLIGHT
TZOFFSETFROM:-0800
TZOFFSETTO:-0700
TZNAME:PDT
DTSTART:20220313T100000
END:DAYLIGHT
BEGIN:STANDARD
TZOFFSETFROM:-0700
TZOFFSETTO:-0800
TZNAME:PST
DTSTART:20221106T090000
END:STANDARD
BEGIN:DAYLIGHT
TZOFFSETFROM:-0800
TZOFFSETTO:-0700
TZNAME:PDT
DTSTART:20230312T100000
END:DAYLIGHT
BEGIN:STANDARD
TZOFFSETFROM:-0700
TZOFFSETTO:-0800
TZNAME:PST
DTSTART:20231105T090000
END:STANDARD
END:VTIMEZONE
BEGIN:VEVENT
DTSTART;TZID=America/Vancouver:20220430T110000
DTEND;TZID=America/Vancouver:20220430T130000
DTSTAMP:20260422T064245
CREATED:20220414T221918Z
LAST-MODIFIED:20220414T232436Z
UID:2155-1651316400-1651323600@www.vacfss.com
SUMMARY:Providence in the Park
DESCRIPTION:Everyone is welcome to join the 2022 Providence in the Park Event\, on Saturday April 30 11:00am-1:00pm at Oppenheimer Park. Health and wellness resources as well as the Bike Repair Clinic will be onsite. \n\nIndigenous Wellness and Reconciliation – Community Building\nCarnegie Centre – Beverage cart\, regular programming in the Park\, barber services\nSt John Ambulance – First Aid\nSt Paul’s Hospital Pandemic Response Team – COVID 19 vaccine\nSt Paul’s Hospital Overdose Prevention Site – Naloxone kits and education\nVancouver Health Overdose Outreach Team – Education\nClearly® – Eye exams and eye wear\nQuick Cobbler – Refurbished walking shoes\nPHC Volunteers – haircuts Gift bags for community consisting of a personal care kit (Shoppers Drug Mart) and other new items donated at PHC sites; t-shirts (C&O); and granola bars (Nature’s Path)\nASL Interpretation Available
URL:https://www.vacfss.com/events-calendar/providence-in-the-park/
LOCATION:British Columbia
ATTACH;FMTTYPE=image/png:https://www.vacfss.com/wp-content/uploads/2022/04/278361590_10158300716706470_1033299150953641885_n.png
END:VEVENT
END:VCALENDAR