BEGIN:VCALENDAR
VERSION:2.0
PRODID:-//VACFSS - ECPv6.15.20//NONSGML v1.0//EN
CALSCALE:GREGORIAN
METHOD:PUBLISH
X-ORIGINAL-URL:https://www.vacfss.com
X-WR-CALDESC:Events for VACFSS
REFRESH-INTERVAL;VALUE=DURATION:PT1H
X-Robots-Tag:noindex
X-PUBLISHED-TTL:PT1H
BEGIN:VTIMEZONE
TZID:America/Vancouver
BEGIN:DAYLIGHT
TZOFFSETFROM:-0800
TZOFFSETTO:-0700
TZNAME:PDT
DTSTART:20210314T100000
END:DAYLIGHT
BEGIN:STANDARD
TZOFFSETFROM:-0700
TZOFFSETTO:-0800
TZNAME:PST
DTSTART:20211107T090000
END:STANDARD
BEGIN:DAYLIGHT
TZOFFSETFROM:-0800
TZOFFSETTO:-0700
TZNAME:PDT
DTSTART:20220313T100000
END:DAYLIGHT
BEGIN:STANDARD
TZOFFSETFROM:-0700
TZOFFSETTO:-0800
TZNAME:PST
DTSTART:20221106T090000
END:STANDARD
BEGIN:DAYLIGHT
TZOFFSETFROM:-0800
TZOFFSETTO:-0700
TZNAME:PDT
DTSTART:20230312T100000
END:DAYLIGHT
BEGIN:STANDARD
TZOFFSETFROM:-0700
TZOFFSETTO:-0800
TZNAME:PST
DTSTART:20231105T090000
END:STANDARD
END:VTIMEZONE
BEGIN:VEVENT
DTSTART;TZID=America/Vancouver:20220420T093000
DTEND;TZID=America/Vancouver:20220420T110000
DTSTAMP:20260422T075414
CREATED:20220414T220542Z
LAST-MODIFIED:20220414T220624Z
UID:2149-1650447000-1650452400@www.vacfss.com
SUMMARY:Family Play Time
DESCRIPTION:Join South Vancouver Family Drop-in Program for their Family Play Time sessions every Wednesday!\n\n\n \n\n\nThis is a FREE drop-in program for children aged 0-6 and their families to build connections while enjoying songs\, play\, art\, stories\, and learning exploration!\n\n\n \n\n\nSee poster for more information on time and location.
URL:https://www.vacfss.com/events-calendar/family-play-time/
LOCATION:British Columbia
ATTACH;FMTTYPE=image/jpeg:https://www.vacfss.com/wp-content/uploads/2022/04/278570850_513590390296490_4199688159356449782_n.jpg
END:VEVENT
END:VCALENDAR