BEGIN:VCALENDAR
VERSION:2.0
PRODID:-//VACFSS - ECPv6.15.20//NONSGML v1.0//EN
CALSCALE:GREGORIAN
METHOD:PUBLISH
X-WR-CALNAME:VACFSS
X-ORIGINAL-URL:https://www.vacfss.com
X-WR-CALDESC:Events for VACFSS
REFRESH-INTERVAL;VALUE=DURATION:PT1H
X-Robots-Tag:noindex
X-PUBLISHED-TTL:PT1H
BEGIN:VTIMEZONE
TZID:America/Vancouver
BEGIN:DAYLIGHT
TZOFFSETFROM:-0800
TZOFFSETTO:-0700
TZNAME:PDT
DTSTART:20210314T100000
END:DAYLIGHT
BEGIN:STANDARD
TZOFFSETFROM:-0700
TZOFFSETTO:-0800
TZNAME:PST
DTSTART:20211107T090000
END:STANDARD
BEGIN:DAYLIGHT
TZOFFSETFROM:-0800
TZOFFSETTO:-0700
TZNAME:PDT
DTSTART:20220313T100000
END:DAYLIGHT
BEGIN:STANDARD
TZOFFSETFROM:-0700
TZOFFSETTO:-0800
TZNAME:PST
DTSTART:20221106T090000
END:STANDARD
BEGIN:DAYLIGHT
TZOFFSETFROM:-0800
TZOFFSETTO:-0700
TZNAME:PDT
DTSTART:20230312T100000
END:DAYLIGHT
BEGIN:STANDARD
TZOFFSETFROM:-0700
TZOFFSETTO:-0800
TZNAME:PST
DTSTART:20231105T090000
END:STANDARD
END:VTIMEZONE
BEGIN:VEVENT
DTSTART;TZID=America/Vancouver:20220419T090000
DTEND;TZID=America/Vancouver:20220419T150000
DTSTAMP:20260424T083621
CREATED:20220414T220046Z
LAST-MODIFIED:20220414T220139Z
UID:2147-1650358800-1650380400@www.vacfss.com
SUMMARY:Microsoft Excel Level 2 Workshop
DESCRIPTION:Naut’sa mawt Tribal Council is excited to offer Microsoft Excel Level 2 online training for our Member Nations’ staff! This is the follow-up workshop for those who have completed the Level 1 workshop from February earlier this year. Facilitated by Vancouver Island Works Project *For Member Nations’ staff who wish to take this workshop but have not completed Level 1\, please email silvera@nautsamawt.com to get access to the materials. \n  \nTo register click here: http://ow.ly/1Ws350IKjSN
URL:https://www.vacfss.com/events-calendar/microsoft-excel-level-2-workshop/
LOCATION:British Columbia
ATTACH;FMTTYPE=image/jpeg:https://www.vacfss.com/wp-content/uploads/2022/04/278559664_2840490686250316_7361531819507875733_n.jpg
END:VEVENT
END:VCALENDAR