BEGIN:VCALENDAR
VERSION:2.0
PRODID:-//VACFSS - ECPv6.15.20//NONSGML v1.0//EN
CALSCALE:GREGORIAN
METHOD:PUBLISH
X-WR-CALNAME:VACFSS
X-ORIGINAL-URL:https://www.vacfss.com
X-WR-CALDESC:Events for VACFSS
REFRESH-INTERVAL;VALUE=DURATION:PT1H
X-Robots-Tag:noindex
X-PUBLISHED-TTL:PT1H
BEGIN:VTIMEZONE
TZID:America/Vancouver
BEGIN:DAYLIGHT
TZOFFSETFROM:-0800
TZOFFSETTO:-0700
TZNAME:PDT
DTSTART:20210314T100000
END:DAYLIGHT
BEGIN:STANDARD
TZOFFSETFROM:-0700
TZOFFSETTO:-0800
TZNAME:PST
DTSTART:20211107T090000
END:STANDARD
BEGIN:DAYLIGHT
TZOFFSETFROM:-0800
TZOFFSETTO:-0700
TZNAME:PDT
DTSTART:20220313T100000
END:DAYLIGHT
BEGIN:STANDARD
TZOFFSETFROM:-0700
TZOFFSETTO:-0800
TZNAME:PST
DTSTART:20221106T090000
END:STANDARD
BEGIN:DAYLIGHT
TZOFFSETFROM:-0800
TZOFFSETTO:-0700
TZNAME:PDT
DTSTART:20230312T100000
END:DAYLIGHT
BEGIN:STANDARD
TZOFFSETFROM:-0700
TZOFFSETTO:-0800
TZNAME:PST
DTSTART:20231105T090000
END:STANDARD
END:VTIMEZONE
BEGIN:VEVENT
DTSTART;VALUE=DATE:20220416
DTEND;VALUE=DATE:20220417
DTSTAMP:20260424T095453
CREATED:20220408T224454Z
LAST-MODIFIED:20220408T224454Z
UID:2132-1650067200-1650153599@www.vacfss.com
SUMMARY:Family Recovery Social
DESCRIPTION:In partnership with Family Recovery Society\, the team at Together We Can hosted the first of a monthly series of events for families in recovery\, the Family Recovery Social. \nThey are excited for their next event on Saturday April 16th! Join them at Sapperton Pensioners Hall for some fun easter related activities for the kids\, and some interactive sessions for all you amazing parents! For more information on the upcoming series\, click here: http://ow.ly/2PgP50IFuNc
URL:https://www.vacfss.com/events-calendar/family-recovery-social/
LOCATION:British Columbia
ATTACH;FMTTYPE=image/png:https://www.vacfss.com/wp-content/uploads/2022/04/277223890_116104604358745_6821611206136765300_n.png
END:VEVENT
END:VCALENDAR