BEGIN:VCALENDAR
VERSION:2.0
PRODID:-//VACFSS - ECPv6.15.20//NONSGML v1.0//EN
CALSCALE:GREGORIAN
METHOD:PUBLISH
X-WR-CALNAME:VACFSS
X-ORIGINAL-URL:https://www.vacfss.com
X-WR-CALDESC:Events for VACFSS
REFRESH-INTERVAL;VALUE=DURATION:PT1H
X-Robots-Tag:noindex
X-PUBLISHED-TTL:PT1H
BEGIN:VTIMEZONE
TZID:America/Vancouver
BEGIN:DAYLIGHT
TZOFFSETFROM:-0800
TZOFFSETTO:-0700
TZNAME:PDT
DTSTART:20210314T100000
END:DAYLIGHT
BEGIN:STANDARD
TZOFFSETFROM:-0700
TZOFFSETTO:-0800
TZNAME:PST
DTSTART:20211107T090000
END:STANDARD
BEGIN:DAYLIGHT
TZOFFSETFROM:-0800
TZOFFSETTO:-0700
TZNAME:PDT
DTSTART:20220313T100000
END:DAYLIGHT
BEGIN:STANDARD
TZOFFSETFROM:-0700
TZOFFSETTO:-0800
TZNAME:PST
DTSTART:20221106T090000
END:STANDARD
BEGIN:DAYLIGHT
TZOFFSETFROM:-0800
TZOFFSETTO:-0700
TZNAME:PDT
DTSTART:20230312T100000
END:DAYLIGHT
BEGIN:STANDARD
TZOFFSETFROM:-0700
TZOFFSETTO:-0800
TZNAME:PST
DTSTART:20231105T090000
END:STANDARD
END:VTIMEZONE
BEGIN:VEVENT
DTSTART;TZID=America/Vancouver:20220331T150000
DTEND;TZID=America/Vancouver:20220331T170000
DTSTAMP:20260424T071139
CREATED:20220306T211952Z
LAST-MODIFIED:20220306T211952Z
UID:2065-1648738800-1648746000@www.vacfss.com
SUMMARY:2S Sexual Health Education
DESCRIPTION:CALLING ALL 2-SPIRIT YOUTH\n\n\n \n\n\nJoin 2-Spirited People of the 1st Nations for this 4 part series\, in which they discuss the topics of Sexual Health and Identity. This youth workshops will focus on 4 topics that generally have a lot of stigmatization surrounding them. Their workshops will take a culturally safe approach\, by incorporating the medicine wheel into in each week. This will be a safe space for participants to learn from experts on each topic\, with an Elder joining for emotional and spiritual support. You may feel free to share your own thoughts and feelings on the topic of the week\, or ask any questions you may not normally get the chance to.\n\n\n \n\n\nThis program is for youth 16 – 29 years of age.\n\n\n \n\n\nTo register fill out the online form https://tinyurl.com/3yfyfrb4 \nor \nemail youth@2spirits.org/youthsupport@2spirits.org for more information.\n\n\nTime:\n6:00pm – 8:00pm (EST)\n3:00pm – 5:00pm (PST)
URL:https://www.vacfss.com/events-calendar/2s-sexual-health-education-4/
LOCATION:British Columbia
ATTACH;FMTTYPE=image/png:https://www.vacfss.com/wp-content/uploads/2022/03/2S-Sexual-Health-Education.png
END:VEVENT
BEGIN:VEVENT
DTSTART;TZID=America/Vancouver:20220331T183000
DTEND;TZID=America/Vancouver:20220331T193000
DTSTAMP:20260424T071139
CREATED:20220321T195546Z
LAST-MODIFIED:20220321T195546Z
UID:2094-1648751400-1648755000@www.vacfss.com
SUMMARY:Pow Wow Yoga
DESCRIPTION:Join Aboriginal Head Start Association of British Columbia to get unwind at the end of the day with Pow Wow steps and relaxing yoga movements with Shyama-Priya! Thursday\, Mar. 31 6:30-7:30 PM (PT) Zoom Link: www.ahsabc.com/mar31 \n  \nUsing easy yoga movements\, Shyama-Priya will introduce the drumbeat and show how to do the basic intertribal steps in powwow dance styles. Relaxation and meditation help us develop awareness and peace in our body\, mind\, and spirit. Shyama-Priya teaches pow wow dance in her community\, holds workshops\, and performs with other talented dancers at events and festivals.
URL:https://www.vacfss.com/events-calendar/pow-wow-yoga/
LOCATION:British Columbia
ATTACH;FMTTYPE=image/png:https://www.vacfss.com/wp-content/uploads/2022/03/Pow-Wow-Yoga.png
END:VEVENT
END:VCALENDAR