BEGIN:VCALENDAR
VERSION:2.0
PRODID:-//VACFSS - ECPv6.15.20//NONSGML v1.0//EN
CALSCALE:GREGORIAN
METHOD:PUBLISH
X-ORIGINAL-URL:https://www.vacfss.com
X-WR-CALDESC:Events for VACFSS
REFRESH-INTERVAL;VALUE=DURATION:PT1H
X-Robots-Tag:noindex
X-PUBLISHED-TTL:PT1H
BEGIN:VTIMEZONE
TZID:America/Vancouver
BEGIN:DAYLIGHT
TZOFFSETFROM:-0800
TZOFFSETTO:-0700
TZNAME:PDT
DTSTART:20210314T100000
END:DAYLIGHT
BEGIN:STANDARD
TZOFFSETFROM:-0700
TZOFFSETTO:-0800
TZNAME:PST
DTSTART:20211107T090000
END:STANDARD
BEGIN:DAYLIGHT
TZOFFSETFROM:-0800
TZOFFSETTO:-0700
TZNAME:PDT
DTSTART:20220313T100000
END:DAYLIGHT
BEGIN:STANDARD
TZOFFSETFROM:-0700
TZOFFSETTO:-0800
TZNAME:PST
DTSTART:20221106T090000
END:STANDARD
BEGIN:DAYLIGHT
TZOFFSETFROM:-0800
TZOFFSETTO:-0700
TZNAME:PDT
DTSTART:20230312T100000
END:DAYLIGHT
BEGIN:STANDARD
TZOFFSETFROM:-0700
TZOFFSETTO:-0800
TZNAME:PST
DTSTART:20231105T090000
END:STANDARD
END:VTIMEZONE
BEGIN:VEVENT
DTSTART;TZID=America/Vancouver:20220119T080000
DTEND;TZID=America/Vancouver:20220119T170000
DTSTAMP:20260423T013533
CREATED:20220114T222307Z
LAST-MODIFIED:20220114T222307Z
UID:1922-1642579200-1642611600@www.vacfss.com
SUMMARY:Circle of Security Parenting
DESCRIPTION:Family Services of Greater Vancouver are hosting an online program called ‘Circle of Security Parenting’ to help strengthen and secure parent-child relationships.\n\n\n \n\n\nParticipants will receive a certificate upon the completion of this 8 week program.\n\n\n \n\n\nReferrals can be sent to Nicole Kim\, Group Program Coordinator: \n\n\nFax: (604)-875-0760\n\n\nEmail: nkim@fsgv.ca
URL:https://www.vacfss.com/events-calendar/circle-of-security-parenting/
LOCATION:British Columbia
ATTACH;FMTTYPE=image/png:https://www.vacfss.com/wp-content/uploads/2022/01/Security-Parenting.png
END:VEVENT
END:VCALENDAR